BEGIN:VCALENDAR
VERSION:2.0
PRODID:-//WCRC Facility Board - ECPv6.15.18//NONSGML v1.0//EN
CALSCALE:GREGORIAN
METHOD:PUBLISH
X-WR-CALNAME:WCRC Facility Board
X-ORIGINAL-URL:https://www.wcrcfb.co.za
X-WR-CALDESC:Events for WCRC Facility Board
REFRESH-INTERVAL;VALUE=DURATION:PT1H
X-Robots-Tag:noindex
X-PUBLISHED-TTL:PT1H
BEGIN:VTIMEZONE
TZID:Africa/Johannesburg
BEGIN:STANDARD
TZOFFSETFROM:+0200
TZOFFSETTO:+0200
TZNAME:SAST
DTSTART:20230101T000000
END:STANDARD
END:VTIMEZONE
BEGIN:VEVENT
DTSTART;VALUE=DATE:20251203
DTEND;VALUE=DATE:20251204
DTSTAMP:20260422T134712
CREATED:20250516T100134Z
LAST-MODIFIED:20250516T100134Z
UID:1537-1764720000-1764806399@www.wcrcfb.co.za
SUMMARY:International Day of Persons with Disabilities
DESCRIPTION:
URL:https://www.wcrcfb.co.za/event/international-day-of-persons-with-disabilities/
END:VEVENT
BEGIN:VEVENT
DTSTART;VALUE=DATE:20251201
DTEND;VALUE=DATE:20251202
DTSTAMP:20260422T134712
CREATED:20250516T100055Z
LAST-MODIFIED:20250516T100055Z
UID:1535-1764547200-1764633599@www.wcrcfb.co.za
SUMMARY:World AIDS Day
DESCRIPTION:
URL:https://www.wcrcfb.co.za/event/world-aids-day/
END:VEVENT
BEGIN:VEVENT
DTSTART;VALUE=DATE:20251125
DTEND;VALUE=DATE:20251126
DTSTAMP:20260422T134712
CREATED:20250516T100013Z
LAST-MODIFIED:20250516T100013Z
UID:1533-1764028800-1764115199@www.wcrcfb.co.za
SUMMARY:International Day for the Elimination of Violence against Women
DESCRIPTION:
URL:https://www.wcrcfb.co.za/event/international-day-for-the-elimination-of-violence-against-women/
END:VEVENT
BEGIN:VEVENT
DTSTART;VALUE=DATE:20251114
DTEND;VALUE=DATE:20251115
DTSTAMP:20260422T134712
CREATED:20250516T095930Z
LAST-MODIFIED:20250516T095930Z
UID:1531-1763078400-1763164799@www.wcrcfb.co.za
SUMMARY:World Diabetes Day
DESCRIPTION:
URL:https://www.wcrcfb.co.za/event/world-diabetes-day/
END:VEVENT
BEGIN:VEVENT
DTSTART;VALUE=DATE:20251029
DTEND;VALUE=DATE:20251030
DTSTAMP:20260422T134712
CREATED:20250516T095854Z
LAST-MODIFIED:20250516T095854Z
UID:1529-1761696000-1761782399@www.wcrcfb.co.za
SUMMARY:World Stroke Day
DESCRIPTION:
URL:https://www.wcrcfb.co.za/event/world-stroke-day/
END:VEVENT
BEGIN:VEVENT
DTSTART;VALUE=DATE:20251027
DTEND;VALUE=DATE:20251028
DTSTAMP:20260422T134712
CREATED:20250516T100359Z
LAST-MODIFIED:20250516T100359Z
UID:1539-1761523200-1761609599@www.wcrcfb.co.za
SUMMARY:World Occupational Therapy Day 2025
DESCRIPTION:
URL:https://www.wcrcfb.co.za/event/world-occupational-therapy-day-2025/
END:VEVENT
BEGIN:VEVENT
DTSTART;VALUE=DATE:20251010
DTEND;VALUE=DATE:20251011
DTSTAMP:20260422T134712
CREATED:20250516T095804Z
LAST-MODIFIED:20250516T095804Z
UID:1527-1760054400-1760140799@www.wcrcfb.co.za
SUMMARY:World Mental Health Day
DESCRIPTION:
URL:https://www.wcrcfb.co.za/event/world-mental-health-day-2/
END:VEVENT
BEGIN:VEVENT
DTSTART;VALUE=DATE:20250929
DTEND;VALUE=DATE:20250930
DTSTAMP:20260422T134712
CREATED:20250516T095709Z
LAST-MODIFIED:20250516T095709Z
UID:1525-1759104000-1759190399@www.wcrcfb.co.za
SUMMARY:World Heart Day
DESCRIPTION:
URL:https://www.wcrcfb.co.za/event/world-heart-day/
END:VEVENT
BEGIN:VEVENT
DTSTART;VALUE=DATE:20250925
DTEND;VALUE=DATE:20250926
DTSTAMP:20260422T134712
CREATED:20250516T095634Z
LAST-MODIFIED:20250516T095634Z
UID:1523-1758758400-1758844799@www.wcrcfb.co.za
SUMMARY:World Pharmacist Day
DESCRIPTION:
URL:https://www.wcrcfb.co.za/event/world-pharmacist-day/
END:VEVENT
BEGIN:VEVENT
DTSTART;VALUE=DATE:20250908
DTEND;VALUE=DATE:20250909
DTSTAMP:20260422T134712
CREATED:20250516T100623Z
LAST-MODIFIED:20250516T100623Z
UID:1543-1757289600-1757375999@www.wcrcfb.co.za
SUMMARY:World Physiotherapy Day 2025
DESCRIPTION:
URL:https://www.wcrcfb.co.za/event/world-physiotherapy-day-2025/
END:VEVENT
BEGIN:VEVENT
DTSTART;VALUE=DATE:20250809
DTEND;VALUE=DATE:20250810
DTSTAMP:20260422T134712
CREATED:20250516T095554Z
LAST-MODIFIED:20250805T172438Z
UID:1521-1754697600-1754783999@www.wcrcfb.co.za
SUMMARY:National Women’s Day
DESCRIPTION:
URL:https://www.wcrcfb.co.za/event/national-womens-day/
END:VEVENT
BEGIN:VEVENT
DTSTART;VALUE=DATE:20250718
DTEND;VALUE=DATE:20250719
DTSTAMP:20260422T134712
CREATED:20240515T211505Z
LAST-MODIFIED:20250516T095222Z
UID:1128-1752796800-1752883199@www.wcrcfb.co.za
SUMMARY:Nelson Mandela International Day
DESCRIPTION:
URL:https://www.wcrcfb.co.za/event/nelson-mandela-international-day/
END:VEVENT
BEGIN:VEVENT
DTSTART;VALUE=DATE:20250616
DTEND;VALUE=DATE:20250617
DTSTAMP:20260422T134712
CREATED:20250516T095428Z
LAST-MODIFIED:20250516T095428Z
UID:1517-1750032000-1750118399@www.wcrcfb.co.za
SUMMARY:Youth Day
DESCRIPTION:
URL:https://www.wcrcfb.co.za/event/youth-day-2/
END:VEVENT
BEGIN:VEVENT
DTSTART;VALUE=DATE:20250528
DTEND;VALUE=DATE:20250529
DTSTAMP:20260422T134712
CREATED:20250516T095351Z
LAST-MODIFIED:20250516T095351Z
UID:1515-1748390400-1748476799@www.wcrcfb.co.za
SUMMARY:International Day of Action for Women’s Health
DESCRIPTION:
URL:https://www.wcrcfb.co.za/event/international-day-of-action-for-womens-health/
END:VEVENT
BEGIN:VEVENT
DTSTART;VALUE=DATE:20250518
DTEND;VALUE=DATE:20250519
DTSTAMP:20260422T134712
CREATED:20250516T100542Z
LAST-MODIFIED:20250516T100542Z
UID:1541-1747526400-1747612799@www.wcrcfb.co.za
SUMMARY:Speech and Language Pathologist (SLP) Appreciation Day
DESCRIPTION:
URL:https://www.wcrcfb.co.za/event/speech-and-language-pathologist-slp-appreciation-day/
END:VEVENT
BEGIN:VEVENT
DTSTART;VALUE=DATE:20250517
DTEND;VALUE=DATE:20250518
DTSTAMP:20260422T134712
CREATED:20250516T095310Z
LAST-MODIFIED:20250516T095310Z
UID:1513-1747440000-1747526399@www.wcrcfb.co.za
SUMMARY:World Hypertension Day
DESCRIPTION:
URL:https://www.wcrcfb.co.za/event/world-hypertension-day-2/
END:VEVENT
BEGIN:VEVENT
DTSTART;VALUE=DATE:20250516
DTEND;VALUE=DATE:20250517
DTSTAMP:20260422T134712
CREATED:20240515T204029Z
LAST-MODIFIED:20250516T095101Z
UID:1051-1747353600-1747439999@www.wcrcfb.co.za
SUMMARY:WCRC Sports Day
DESCRIPTION:
URL:https://www.wcrcfb.co.za/event/wcrc-sports-day/
END:VEVENT
BEGIN:VEVENT
DTSTART;TZID=Africa/Johannesburg:20250318T080000
DTEND;TZID=Africa/Johannesburg:20250318T170000
DTSTAMP:20260422T134712
CREATED:20250516T100712Z
LAST-MODIFIED:20250516T100712Z
UID:1545-1742284800-1742317200@www.wcrcfb.co.za
SUMMARY:World Social Worker Day 2025
DESCRIPTION:
URL:https://www.wcrcfb.co.za/event/world-social-worker-day-2025/
END:VEVENT
BEGIN:VEVENT
DTSTART;VALUE=DATE:20241027
DTEND;VALUE=DATE:20241028
DTSTAMP:20260422T134712
CREATED:20240531T075351Z
LAST-MODIFIED:20240531T075351Z
UID:1241-1729987200-1730073599@www.wcrcfb.co.za
SUMMARY:World OT Day
DESCRIPTION:
URL:https://www.wcrcfb.co.za/event/world-ot-day/
END:VEVENT
BEGIN:VEVENT
DTSTART;VALUE=DATE:20241016
DTEND;VALUE=DATE:20241017
DTSTAMP:20260422T134712
CREATED:20240531T074937Z
LAST-MODIFIED:20240531T074937Z
UID:1239-1729036800-1729123199@www.wcrcfb.co.za
SUMMARY:SA Boss’s Day
DESCRIPTION:
URL:https://www.wcrcfb.co.za/event/sa-bosss-day/
END:VEVENT
BEGIN:VEVENT
DTSTART;VALUE=DATE:20241010
DTEND;VALUE=DATE:20241011
DTSTAMP:20260422T134712
CREATED:20240531T074755Z
LAST-MODIFIED:20240531T074755Z
UID:1237-1728518400-1728604799@www.wcrcfb.co.za
SUMMARY:World Mental Health Day
DESCRIPTION:
URL:https://www.wcrcfb.co.za/event/world-mental-health-day/
END:VEVENT
BEGIN:VEVENT
DTSTART;VALUE=DATE:20240908
DTEND;VALUE=DATE:20240909
DTSTAMP:20260422T134712
CREATED:20240531T074649Z
LAST-MODIFIED:20240531T074649Z
UID:1235-1725753600-1725839999@www.wcrcfb.co.za
SUMMARY:World PT Day
DESCRIPTION:
URL:https://www.wcrcfb.co.za/event/world-pt-day/
END:VEVENT
BEGIN:VEVENT
DTSTART;VALUE=DATE:20240904
DTEND;VALUE=DATE:20240905
DTSTAMP:20260422T134712
CREATED:20240531T074611Z
LAST-MODIFIED:20240531T074611Z
UID:1233-1725408000-1725494399@www.wcrcfb.co.za
SUMMARY:Administrative Professionals Day – Secretary’s Day
DESCRIPTION:
URL:https://www.wcrcfb.co.za/event/administrative-professionals-day-secretarys-day/
END:VEVENT
BEGIN:VEVENT
DTSTART;VALUE=DATE:20240730
DTEND;VALUE=DATE:20240731
DTSTAMP:20260422T134712
CREATED:20240515T211601Z
LAST-MODIFIED:20240515T211601Z
UID:1134-1722297600-1722383999@www.wcrcfb.co.za
SUMMARY:World Day Against Trafficking in Persons
DESCRIPTION:
URL:https://www.wcrcfb.co.za/event/world-day-against-trafficking-in-persons/
END:VEVENT
BEGIN:VEVENT
DTSTART;VALUE=DATE:20240727
DTEND;VALUE=DATE:20240728
DTSTAMP:20260422T134712
CREATED:20240515T211533Z
LAST-MODIFIED:20240515T211533Z
UID:1131-1722038400-1722124799@www.wcrcfb.co.za
SUMMARY:Osteo-Arthritis Awareness Day
DESCRIPTION:
URL:https://www.wcrcfb.co.za/event/osteo-arthritis-awareness-day/
END:VEVENT
BEGIN:VEVENT
DTSTART;VALUE=DATE:20240711
DTEND;VALUE=DATE:20240712
DTSTAMP:20260422T134712
CREATED:20240515T211432Z
LAST-MODIFIED:20240515T211432Z
UID:1125-1720656000-1720742399@www.wcrcfb.co.za
SUMMARY:World Population Day
DESCRIPTION:
URL:https://www.wcrcfb.co.za/event/world-population-day/
END:VEVENT
BEGIN:VEVENT
DTSTART;VALUE=DATE:20240710
DTEND;VALUE=DATE:20240711
DTSTAMP:20260422T134712
CREATED:20240515T211408Z
LAST-MODIFIED:20240515T211408Z
UID:1123-1720569600-1720655999@www.wcrcfb.co.za
SUMMARY:South African Librarians’ Day
DESCRIPTION:
URL:https://www.wcrcfb.co.za/event/south-african-librarians-day/
END:VEVENT
BEGIN:VEVENT
DTSTART;VALUE=DATE:20240710
DTEND;VALUE=DATE:20240711
DTSTAMP:20260422T134712
CREATED:20240515T211336Z
LAST-MODIFIED:20240515T211336Z
UID:1121-1720569600-1720655999@www.wcrcfb.co.za
SUMMARY:Panic Awareness Day
DESCRIPTION:
URL:https://www.wcrcfb.co.za/event/panic-awareness-day/
END:VEVENT
BEGIN:VEVENT
DTSTART;TZID=Africa/Johannesburg:20240706T080000
DTEND;TZID=Africa/Johannesburg:20240714T170000
DTSTAMP:20260422T134712
CREATED:20240515T211227Z
LAST-MODIFIED:20240515T211227Z
UID:1119-1720252800-1720976400@www.wcrcfb.co.za
SUMMARY:Grandparents And Newborns
DESCRIPTION:
URL:https://www.wcrcfb.co.za/event/grandparents-and-newborns/
END:VEVENT
BEGIN:VEVENT
DTSTART;VALUE=DATE:20240706
DTEND;VALUE=DATE:20240707
DTSTAMP:20260422T134712
CREATED:20240515T211129Z
LAST-MODIFIED:20240515T211129Z
UID:1117-1720224000-1720310399@www.wcrcfb.co.za
SUMMARY:World Zoonosis Day
DESCRIPTION:
URL:https://www.wcrcfb.co.za/event/world-zoonosis-day/
END:VEVENT
END:VCALENDAR