BEGIN:VCALENDAR
VERSION:2.0
PRODID:-//WCRC Facility Board - ECPv6.15.18//NONSGML v1.0//EN
CALSCALE:GREGORIAN
METHOD:PUBLISH
X-ORIGINAL-URL:https://www.wcrcfb.co.za
X-WR-CALDESC:Events for WCRC Facility Board
REFRESH-INTERVAL;VALUE=DURATION:PT1H
X-Robots-Tag:noindex
X-PUBLISHED-TTL:PT1H
BEGIN:VTIMEZONE
TZID:Africa/Johannesburg
BEGIN:STANDARD
TZOFFSETFROM:+0200
TZOFFSETTO:+0200
TZNAME:SAST
DTSTART:20230101T000000
END:STANDARD
END:VTIMEZONE
BEGIN:VEVENT
DTSTART;VALUE=DATE:20240727
DTEND;VALUE=DATE:20240728
DTSTAMP:20260422T164829
CREATED:20240515T211533Z
LAST-MODIFIED:20240515T211533Z
UID:1131-1722038400-1722124799@www.wcrcfb.co.za
SUMMARY:Osteo-Arthritis Awareness Day
DESCRIPTION:
URL:https://www.wcrcfb.co.za/event/osteo-arthritis-awareness-day/
END:VEVENT
BEGIN:VEVENT
DTSTART;VALUE=DATE:20240711
DTEND;VALUE=DATE:20240712
DTSTAMP:20260422T164829
CREATED:20240515T211432Z
LAST-MODIFIED:20240515T211432Z
UID:1125-1720656000-1720742399@www.wcrcfb.co.za
SUMMARY:World Population Day
DESCRIPTION:
URL:https://www.wcrcfb.co.za/event/world-population-day/
END:VEVENT
BEGIN:VEVENT
DTSTART;VALUE=DATE:20240710
DTEND;VALUE=DATE:20240711
DTSTAMP:20260422T164829
CREATED:20240515T211408Z
LAST-MODIFIED:20240515T211408Z
UID:1123-1720569600-1720655999@www.wcrcfb.co.za
SUMMARY:South African Librarians’ Day
DESCRIPTION:
URL:https://www.wcrcfb.co.za/event/south-african-librarians-day/
END:VEVENT
BEGIN:VEVENT
DTSTART;VALUE=DATE:20240710
DTEND;VALUE=DATE:20240711
DTSTAMP:20260422T164829
CREATED:20240515T211336Z
LAST-MODIFIED:20240515T211336Z
UID:1121-1720569600-1720655999@www.wcrcfb.co.za
SUMMARY:Panic Awareness Day
DESCRIPTION:
URL:https://www.wcrcfb.co.za/event/panic-awareness-day/
END:VEVENT
BEGIN:VEVENT
DTSTART;TZID=Africa/Johannesburg:20240706T080000
DTEND;TZID=Africa/Johannesburg:20240714T170000
DTSTAMP:20260422T164829
CREATED:20240515T211227Z
LAST-MODIFIED:20240515T211227Z
UID:1119-1720252800-1720976400@www.wcrcfb.co.za
SUMMARY:Grandparents And Newborns
DESCRIPTION:
URL:https://www.wcrcfb.co.za/event/grandparents-and-newborns/
END:VEVENT
BEGIN:VEVENT
DTSTART;VALUE=DATE:20240706
DTEND;VALUE=DATE:20240707
DTSTAMP:20260422T164829
CREATED:20240515T211129Z
LAST-MODIFIED:20240515T211129Z
UID:1117-1720224000-1720310399@www.wcrcfb.co.za
SUMMARY:World Zoonosis Day
DESCRIPTION:
URL:https://www.wcrcfb.co.za/event/world-zoonosis-day/
END:VEVENT
BEGIN:VEVENT
DTSTART;TZID=Africa/Johannesburg:20240701T080000
DTEND;TZID=Africa/Johannesburg:20240731T170000
DTSTAMP:20260422T164829
CREATED:20240515T211730Z
LAST-MODIFIED:20240515T211730Z
UID:1141-1719820800-1722445200@www.wcrcfb.co.za
SUMMARY:Plastic Free July
DESCRIPTION:
URL:https://www.wcrcfb.co.za/event/plastic-free-july/
END:VEVENT
BEGIN:VEVENT
DTSTART;TZID=Africa/Johannesburg:20240701T080000
DTEND;TZID=Africa/Johannesburg:20240731T170000
DTSTAMP:20260422T164829
CREATED:20240515T211702Z
LAST-MODIFIED:20240515T211702Z
UID:1138-1719820800-1722445200@www.wcrcfb.co.za
SUMMARY:Cleft And Craniofacial Awareness Month
DESCRIPTION:
URL:https://www.wcrcfb.co.za/event/cleft-and-craniofacial-awareness-month/
END:VEVENT
BEGIN:VEVENT
DTSTART;TZID=Africa/Johannesburg:20240701T080000
DTEND;TZID=Africa/Johannesburg:20240731T170000
DTSTAMP:20260422T164829
CREATED:20240515T211635Z
LAST-MODIFIED:20240515T211635Z
UID:1136-1719820800-1722445200@www.wcrcfb.co.za
SUMMARY:Psychosocial Disability Awareness Month
DESCRIPTION:
URL:https://www.wcrcfb.co.za/event/psychosocial-disability-awareness-month/
END:VEVENT
BEGIN:VEVENT
DTSTART;VALUE=DATE:20240626
DTEND;VALUE=DATE:20240627
DTSTAMP:20260422T164829
CREATED:20240515T211047Z
LAST-MODIFIED:20240515T211047Z
UID:1115-1719360000-1719446399@www.wcrcfb.co.za
SUMMARY:Int. Day Against Drug Abuse and Illicit Trafficking
DESCRIPTION:
URL:https://www.wcrcfb.co.za/event/int-day-against-drug-abuse-and-illicit-trafficking/
END:VEVENT
BEGIN:VEVENT
DTSTART;TZID=Africa/Johannesburg:20240621T080000
DTEND;TZID=Africa/Johannesburg:20240627T170000
DTSTAMP:20260422T164829
CREATED:20240515T211012Z
LAST-MODIFIED:20240515T211012Z
UID:1113-1718956800-1719507600@www.wcrcfb.co.za
SUMMARY:National Epilepsy Week
DESCRIPTION:
URL:https://www.wcrcfb.co.za/event/national-epilepsy-week/
END:VEVENT
BEGIN:VEVENT
DTSTART;TZID=Africa/Johannesburg:20240619T080000
DTEND;TZID=Africa/Johannesburg:20240623T170000
DTSTAMP:20260422T164829
CREATED:20240515T210921Z
LAST-MODIFIED:20240515T210921Z
UID:1111-1718784000-1719162000@www.wcrcfb.co.za
SUMMARY:SA National Council on Alcoholism (SANCA) and Drug Dependence Week
DESCRIPTION:
URL:https://www.wcrcfb.co.za/event/sa-national-council-on-alcoholism-sanca-and-drug-dependence-week/
END:VEVENT
BEGIN:VEVENT
DTSTART;VALUE=DATE:20240617
DTEND;VALUE=DATE:20240618
DTSTAMP:20260422T164829
CREATED:20240515T210839Z
LAST-MODIFIED:20240515T210839Z
UID:1109-1718582400-1718668799@www.wcrcfb.co.za
SUMMARY:World Day to Combat Desertification and Drought
DESCRIPTION:
URL:https://www.wcrcfb.co.za/event/world-day-to-combat-desertification-and-drought/
END:VEVENT
BEGIN:VEVENT
DTSTART;VALUE=DATE:20240616
DTEND;VALUE=DATE:20240617
DTSTAMP:20260422T164829
CREATED:20240515T210814Z
LAST-MODIFIED:20240515T210814Z
UID:1107-1718496000-1718582399@www.wcrcfb.co.za
SUMMARY:Youth Day
DESCRIPTION:
URL:https://www.wcrcfb.co.za/event/youth-day/
END:VEVENT
BEGIN:VEVENT
DTSTART;VALUE=DATE:20240614
DTEND;VALUE=DATE:20240615
DTSTAMP:20260422T164829
CREATED:20240515T210717Z
LAST-MODIFIED:20240515T210717Z
UID:1102-1718323200-1718409599@www.wcrcfb.co.za
SUMMARY:World Blood Donor Day
DESCRIPTION:
URL:https://www.wcrcfb.co.za/event/world-blood-donor-day/
END:VEVENT
BEGIN:VEVENT
DTSTART;VALUE=DATE:20240613
DTEND;VALUE=DATE:20240614
DTSTAMP:20260422T164829
CREATED:20240515T210650Z
LAST-MODIFIED:20240515T210650Z
UID:1099-1718236800-1718323199@www.wcrcfb.co.za
SUMMARY:International Albinism Day
DESCRIPTION:
URL:https://www.wcrcfb.co.za/event/international-albinism-day/
END:VEVENT
BEGIN:VEVENT
DTSTART;VALUE=DATE:20240608
DTEND;VALUE=DATE:20240609
DTSTAMP:20260422T164829
CREATED:20240515T210618Z
LAST-MODIFIED:20240515T210618Z
UID:1097-1717804800-1717891199@www.wcrcfb.co.za
SUMMARY:Global Wellness Day
DESCRIPTION:
URL:https://www.wcrcfb.co.za/event/global-wellness-day/
END:VEVENT
BEGIN:VEVENT
DTSTART;VALUE=DATE:20240608
DTEND;VALUE=DATE:20240609
DTSTAMP:20260422T164829
CREATED:20240515T210537Z
LAST-MODIFIED:20240515T210537Z
UID:1094-1717804800-1717891199@www.wcrcfb.co.za
SUMMARY:World Oceans Day
DESCRIPTION:
URL:https://www.wcrcfb.co.za/event/world-oceans-day/
END:VEVENT
BEGIN:VEVENT
DTSTART;TZID=Africa/Johannesburg:20240605T080000
DTEND;TZID=Africa/Johannesburg:20240611T170000
DTSTAMP:20260422T164829
CREATED:20240515T210445Z
LAST-MODIFIED:20240515T210445Z
UID:1092-1717574400-1718125200@www.wcrcfb.co.za
SUMMARY:World Allergy Week
DESCRIPTION:
URL:https://www.wcrcfb.co.za/event/world-allergy-week/
END:VEVENT
BEGIN:VEVENT
DTSTART;VALUE=DATE:20240605
DTEND;VALUE=DATE:20240606
DTSTAMP:20260422T164829
CREATED:20240515T210405Z
LAST-MODIFIED:20240515T210405Z
UID:1090-1717545600-1717631999@www.wcrcfb.co.za
SUMMARY:World Environment Day
DESCRIPTION:
URL:https://www.wcrcfb.co.za/event/world-environment-day/
END:VEVENT
BEGIN:VEVENT
DTSTART;VALUE=DATE:20240604
DTEND;VALUE=DATE:20240605
DTSTAMP:20260422T164829
CREATED:20240515T210330Z
LAST-MODIFIED:20240515T210330Z
UID:1088-1717459200-1717545599@www.wcrcfb.co.za
SUMMARY:Cancer Survivors’ Day
DESCRIPTION:
URL:https://www.wcrcfb.co.za/event/cancer-survivors-day/
END:VEVENT
BEGIN:VEVENT
DTSTART;TZID=Africa/Johannesburg:20240603T080000
DTEND;TZID=Africa/Johannesburg:20240607T170000
DTSTAMP:20260422T164829
CREATED:20240515T210234Z
LAST-MODIFIED:20240515T210234Z
UID:1085-1717401600-1717779600@www.wcrcfb.co.za
SUMMARY:Dietitians Week
DESCRIPTION:
URL:https://www.wcrcfb.co.za/event/dietitians-week/
END:VEVENT
BEGIN:VEVENT
DTSTART;VALUE=DATE:20240603
DTEND;VALUE=DATE:20240604
DTSTAMP:20260422T164829
CREATED:20240515T210154Z
LAST-MODIFIED:20240515T210154Z
UID:1082-1717372800-1717459199@www.wcrcfb.co.za
SUMMARY:World Club Foot Day
DESCRIPTION:
URL:https://www.wcrcfb.co.za/event/world-club-foot-day/
END:VEVENT
BEGIN:VEVENT
DTSTART;TZID=Africa/Johannesburg:20240601T080000
DTEND;TZID=Africa/Johannesburg:20240630T170000
DTSTAMP:20260422T164829
CREATED:20240515T205254Z
LAST-MODIFIED:20240515T205254Z
UID:1078-1717228800-1719766800@www.wcrcfb.co.za
SUMMARY:Children And Youth Month
DESCRIPTION:
URL:https://www.wcrcfb.co.za/event/children-and-youth-month/
END:VEVENT
BEGIN:VEVENT
DTSTART;TZID=Africa/Johannesburg:20240601T080000
DTEND;TZID=Africa/Johannesburg:20240630T170000
DTSTAMP:20260422T164829
CREATED:20240515T205219Z
LAST-MODIFIED:20240515T205219Z
UID:1076-1717228800-1719766800@www.wcrcfb.co.za
SUMMARY:National Blood Donor Month
DESCRIPTION:
URL:https://www.wcrcfb.co.za/event/national-blood-donor-month/
END:VEVENT
BEGIN:VEVENT
DTSTART;TZID=Africa/Johannesburg:20240601T080000
DTEND;TZID=Africa/Johannesburg:20240609T170000
DTSTAMP:20260422T164829
CREATED:20240515T210114Z
LAST-MODIFIED:20240515T210114Z
UID:1080-1717228800-1717952400@www.wcrcfb.co.za
SUMMARY:Children’s Day Skin To Skin Week
DESCRIPTION:
URL:https://www.wcrcfb.co.za/event/childrens-day-skin-to-skin-week/
END:VEVENT
BEGIN:VEVENT
DTSTART;VALUE=DATE:20240531
DTEND;VALUE=DATE:20240601
DTSTAMP:20260422T164829
CREATED:20240515T205014Z
LAST-MODIFIED:20240515T205014Z
UID:1072-1717113600-1717199999@www.wcrcfb.co.za
SUMMARY:World No Tobacco Day
DESCRIPTION:
URL:https://www.wcrcfb.co.za/event/world-no-tobacco-day/
END:VEVENT
BEGIN:VEVENT
DTSTART;TZID=Africa/Johannesburg:20240528T080000
DTEND;TZID=Africa/Johannesburg:20240604T170000
DTSTAMP:20260422T164829
CREATED:20240515T204922Z
LAST-MODIFIED:20240515T204922Z
UID:1069-1716883200-1717520400@www.wcrcfb.co.za
SUMMARY:Child Protection Week
DESCRIPTION:
URL:https://www.wcrcfb.co.za/event/child-protection-week/
END:VEVENT
BEGIN:VEVENT
DTSTART;VALUE=DATE:20240526
DTEND;VALUE=DATE:20240527
DTSTAMP:20260422T164829
CREATED:20240515T204820Z
LAST-MODIFIED:20240515T204820Z
UID:1067-1716681600-1716767999@www.wcrcfb.co.za
SUMMARY:SA Bipolar Awareness Day
DESCRIPTION:
URL:https://www.wcrcfb.co.za/event/sa-bipolar-awareness-day/
END:VEVENT
BEGIN:VEVENT
DTSTART;VALUE=DATE:20240525
DTEND;VALUE=DATE:20240526
DTSTAMP:20260422T164829
CREATED:20240515T204724Z
LAST-MODIFIED:20240515T204724Z
UID:1064-1716595200-1716681599@www.wcrcfb.co.za
SUMMARY:Africa Day
DESCRIPTION:
URL:https://www.wcrcfb.co.za/event/africa-day/
END:VEVENT
END:VCALENDAR