BEGIN:VCALENDAR
VERSION:2.0
PRODID:-//WCRC Facility Board - ECPv6.15.18//NONSGML v1.0//EN
CALSCALE:GREGORIAN
METHOD:PUBLISH
X-WR-CALNAME:WCRC Facility Board
X-ORIGINAL-URL:https://www.wcrcfb.co.za
X-WR-CALDESC:Events for WCRC Facility Board
REFRESH-INTERVAL;VALUE=DURATION:PT1H
X-Robots-Tag:noindex
X-PUBLISHED-TTL:PT1H
BEGIN:VTIMEZONE
TZID:Africa/Johannesburg
BEGIN:STANDARD
TZOFFSETFROM:+0200
TZOFFSETTO:+0200
TZNAME:SAST
DTSTART:20220101T000000
END:STANDARD
END:VTIMEZONE
BEGIN:VEVENT
DTSTART;TZID=Africa/Johannesburg:20240601T080000
DTEND;TZID=Africa/Johannesburg:20240630T170000
DTSTAMP:20260422T193027
CREATED:20240515T205219Z
LAST-MODIFIED:20240515T205219Z
UID:1076-1717228800-1719766800@www.wcrcfb.co.za
SUMMARY:National Blood Donor Month
DESCRIPTION:
URL:https://www.wcrcfb.co.za/event/national-blood-donor-month/
END:VEVENT
BEGIN:VEVENT
DTSTART;TZID=Africa/Johannesburg:20240601T080000
DTEND;TZID=Africa/Johannesburg:20240609T170000
DTSTAMP:20260422T193027
CREATED:20240515T210114Z
LAST-MODIFIED:20240515T210114Z
UID:1080-1717228800-1717952400@www.wcrcfb.co.za
SUMMARY:Children’s Day Skin To Skin Week
DESCRIPTION:
URL:https://www.wcrcfb.co.za/event/childrens-day-skin-to-skin-week/
END:VEVENT
BEGIN:VEVENT
DTSTART;VALUE=DATE:20240531
DTEND;VALUE=DATE:20240601
DTSTAMP:20260422T193027
CREATED:20240515T205014Z
LAST-MODIFIED:20240515T205014Z
UID:1072-1717113600-1717199999@www.wcrcfb.co.za
SUMMARY:World No Tobacco Day
DESCRIPTION:
URL:https://www.wcrcfb.co.za/event/world-no-tobacco-day/
END:VEVENT
BEGIN:VEVENT
DTSTART;TZID=Africa/Johannesburg:20240528T080000
DTEND;TZID=Africa/Johannesburg:20240604T170000
DTSTAMP:20260422T193027
CREATED:20240515T204922Z
LAST-MODIFIED:20240515T204922Z
UID:1069-1716883200-1717520400@www.wcrcfb.co.za
SUMMARY:Child Protection Week
DESCRIPTION:
URL:https://www.wcrcfb.co.za/event/child-protection-week/
END:VEVENT
BEGIN:VEVENT
DTSTART;VALUE=DATE:20240526
DTEND;VALUE=DATE:20240527
DTSTAMP:20260422T193027
CREATED:20240515T204820Z
LAST-MODIFIED:20240515T204820Z
UID:1067-1716681600-1716767999@www.wcrcfb.co.za
SUMMARY:SA Bipolar Awareness Day
DESCRIPTION:
URL:https://www.wcrcfb.co.za/event/sa-bipolar-awareness-day/
END:VEVENT
BEGIN:VEVENT
DTSTART;VALUE=DATE:20240525
DTEND;VALUE=DATE:20240526
DTSTAMP:20260422T193027
CREATED:20240515T204724Z
LAST-MODIFIED:20240515T204724Z
UID:1064-1716595200-1716681599@www.wcrcfb.co.za
SUMMARY:Africa Day
DESCRIPTION:
URL:https://www.wcrcfb.co.za/event/africa-day/
END:VEVENT
BEGIN:VEVENT
DTSTART;VALUE=DATE:20240522
DTEND;VALUE=DATE:20240523
DTSTAMP:20260422T193027
CREATED:20240515T204628Z
LAST-MODIFIED:20240515T204628Z
UID:1062-1716336000-1716422399@www.wcrcfb.co.za
SUMMARY:International Day for Biological Diversity
DESCRIPTION:
URL:https://www.wcrcfb.co.za/event/international-day-for-biological-diversity/
END:VEVENT
BEGIN:VEVENT
DTSTART;VALUE=DATE:20240518
DTEND;VALUE=DATE:20240519
DTSTAMP:20260422T193027
CREATED:20240531T074419Z
LAST-MODIFIED:20240531T074419Z
UID:1230-1715990400-1716076799@www.wcrcfb.co.za
SUMMARY:National Speech & Language Pathology Day
DESCRIPTION:
URL:https://www.wcrcfb.co.za/event/national-speech-language-pathology-day/
END:VEVENT
BEGIN:VEVENT
DTSTART;VALUE=DATE:20240518
DTEND;VALUE=DATE:20240519
DTSTAMP:20260422T193027
CREATED:20240515T204542Z
LAST-MODIFIED:20240515T204542Z
UID:1059-1715990400-1716076799@www.wcrcfb.co.za
SUMMARY:World HIV Vaccine Day
DESCRIPTION:
URL:https://www.wcrcfb.co.za/event/world-hiv-vaccine-day/
END:VEVENT
BEGIN:VEVENT
DTSTART;VALUE=DATE:20240518
DTEND;VALUE=DATE:20240519
DTSTAMP:20260422T193027
CREATED:20240515T204458Z
LAST-MODIFIED:20240515T204458Z
UID:1057-1715990400-1716076799@www.wcrcfb.co.za
SUMMARY:International Museum Day
DESCRIPTION:
URL:https://www.wcrcfb.co.za/event/international-museum-day/
END:VEVENT
BEGIN:VEVENT
DTSTART;VALUE=DATE:20240517
DTEND;VALUE=DATE:20240518
DTSTAMP:20260422T193027
CREATED:20240515T204400Z
LAST-MODIFIED:20240515T204400Z
UID:1055-1715904000-1715990399@www.wcrcfb.co.za
SUMMARY:World Hypertension Day
DESCRIPTION:
URL:https://www.wcrcfb.co.za/event/world-hypertension-day/
END:VEVENT
BEGIN:VEVENT
DTSTART;VALUE=DATE:20240515
DTEND;VALUE=DATE:20240516
DTSTAMP:20260422T193027
CREATED:20240515T210747Z
LAST-MODIFIED:20240515T210747Z
UID:1105-1715731200-1715817599@www.wcrcfb.co.za
SUMMARY:World Elder Abuse Awareness Day
DESCRIPTION:
URL:https://www.wcrcfb.co.za/event/world-elder-abuse-awareness-day/
END:VEVENT
BEGIN:VEVENT
DTSTART;VALUE=DATE:20240514
DTEND;VALUE=DATE:20240515
DTSTAMP:20260422T193027
CREATED:20240913T142845Z
LAST-MODIFIED:20240913T142845Z
UID:1363-1715644800-1715731199@www.wcrcfb.co.za
SUMMARY:Nursing Day
DESCRIPTION:We celebrated Nurses Day on the 14th Of May 2024. \nThe 12th of May is a historical day where Nurses are celebrated all over the world. \nThe 12th of May was on a Sunday\, we at WCRC celebrated Nurses Day on the 14th Of May 2024. \nWe had some guests attending\, our Executive members of the facility\, representatives from Old Mutual\, Sanlam\, Nursing Agencies. \nOur Facility Board was the main sponsor of the event and we as nurse are very grateful to have the support of our facility board. \nThe theme for Nurses day was: Our Nurses. Our Future. The Economic power of Care. \nThe highlight of the event was to celebrate our Nurses and to salute them for their for their unselfish giving\, bravery\, dedication\, and commitment to save lives. \nNurses are the backbone of any hospital\, and strength of pillars to patients who are in need of care. \nAfter the event\, nurses commended on the great day they had\, they felt appreciative\, acknowledged and worthy of their profession. \nThey felt inspired by the speaker\, our own CEO\, Ms. Fatima Peters that stated that Nurses are there from the day you open your eyes\, until the day you die. \nWhen a baby is born\, the nurse are with you\, a nurse is sometimes the last person you see. This reality was so appreciated by the Nurses that their CEO can make such a bold statement\, it was well appreciated.
URL:https://www.wcrcfb.co.za/event/nursing-day/
END:VEVENT
BEGIN:VEVENT
DTSTART;VALUE=DATE:20240512
DTEND;VALUE=DATE:20240513
DTSTAMP:20260422T193027
CREATED:20240531T074239Z
LAST-MODIFIED:20240531T074252Z
UID:1228-1715472000-1715558399@www.wcrcfb.co.za
SUMMARY:Nurses Day
DESCRIPTION:
URL:https://www.wcrcfb.co.za/event/nurses-day/
END:VEVENT
BEGIN:VEVENT
DTSTART;VALUE=DATE:20240505
DTEND;VALUE=DATE:20240506
DTSTAMP:20260422T193027
CREATED:20240515T203909Z
LAST-MODIFIED:20240515T203909Z
UID:1048-1714867200-1714953599@www.wcrcfb.co.za
SUMMARY:Wing For Life
DESCRIPTION:
URL:https://www.wcrcfb.co.za/event/wing-for-life/
END:VEVENT
BEGIN:VEVENT
DTSTART;TZID=Africa/Johannesburg:20240501T080000
DTEND;TZID=Africa/Johannesburg:20240531T170000
DTSTAMP:20260422T193027
CREATED:20240515T205112Z
LAST-MODIFIED:20240515T205112Z
UID:1074-1714550400-1717174800@www.wcrcfb.co.za
SUMMARY:Anti-tobacco Campaign Month
DESCRIPTION:
URL:https://www.wcrcfb.co.za/event/anti-tobacco-campaign-month/
END:VEVENT
BEGIN:VEVENT
DTSTART;VALUE=DATE:20240413
DTEND;VALUE=DATE:20240414
DTSTAMP:20260422T193027
CREATED:20240515T203525Z
LAST-MODIFIED:20240515T203932Z
UID:1046-1712966400-1713052799@www.wcrcfb.co.za
SUMMARY:Wheelchair Basketball Tournament Demo
DESCRIPTION:
URL:https://www.wcrcfb.co.za/event/wheelchair-basketball-tournament-demo/
END:VEVENT
BEGIN:VEVENT
DTSTART;VALUE=DATE:20240319
DTEND;VALUE=DATE:20240320
DTSTAMP:20260422T193027
CREATED:20240531T074051Z
LAST-MODIFIED:20240531T074051Z
UID:1226-1710806400-1710892799@www.wcrcfb.co.za
SUMMARY:World SW Day
DESCRIPTION:
URL:https://www.wcrcfb.co.za/event/world-sw-day/
END:VEVENT
BEGIN:VEVENT
DTSTART;VALUE=DATE:20240313
DTEND;VALUE=DATE:20240314
DTSTAMP:20260422T193027
CREATED:20240531T074017Z
LAST-MODIFIED:20240531T074017Z
UID:1224-1710288000-1710374399@www.wcrcfb.co.za
SUMMARY:World Dietician Day
DESCRIPTION:
URL:https://www.wcrcfb.co.za/event/world-dietician-day/
END:VEVENT
BEGIN:VEVENT
DTSTART;VALUE=DATE:20240224
DTEND;VALUE=DATE:20240225
DTSTAMP:20260422T193027
CREATED:20240913T142505Z
LAST-MODIFIED:20240913T142505Z
UID:1361-1708732800-1708819199@www.wcrcfb.co.za
SUMMARY:The Outeniqua Chair Challenge Wheelchair Race
DESCRIPTION:WCRC takes on The Outeniqua Chair Challenge: \nThe Outeniqua Chair Challenge in an annual wheelchair race that takes place In George\, Westen Cape. It is best known as the “biggest wheelchair race in Africa” and on the 24th of February 2024 we got to partake in this prestigious race. \nAfter years of not participating due to the Covid-19 pandemic\, we assembled the WCRC Hot-wheelerz to be a part of this amazing experience. We had a group of eight eager and competitive patients (both in and outpatients) and eight volunteers partaking. After months of planning\, preparation\, training\, and a world class send off from our WCRC family we were off to races. \nGeroge treated us well\, the atmosphere was vibrant and the excitement amongst our patients palpable as they not only raced for themselves but also for disability advocacy as a whole. It was an eye-opening experience for us all filled with hope and opportunity for a better tomorrow. The Team participated in the 5km fun-walk\, and we are very proud to proclaim that we had a few first time WCRC Hot-wheelerz coming in the top 50 out of hundreds of races! Witnessing hundreds of wheelchair users taking over the streets of George was a reminder of why we at WCRC believe in being the changemakers and empowering the changemakers of tomorrow. \nA big thank you to our executive team\, our facility board and most importantly our WCRC family for their unwavering support for allowing the volunteers the opportunity to make this happen. We hope we find ourselves at the races next year again! \nNothemba Thobela (Chairperson of the Sports Committee and physiotherapist at WCRC) \nJanine Matthews (Volunteer and physiotherapist at WCRC)
URL:https://www.wcrcfb.co.za/event/the-outeniqua-chair-challenge-wheelchair-race/
END:VEVENT
BEGIN:VEVENT
DTSTART;VALUE=DATE:20231103
DTEND;VALUE=DATE:20231204
DTSTAMP:20260422T193027
CREATED:20240913T143627Z
LAST-MODIFIED:20240913T143627Z
UID:1371-1698969600-1701647999@www.wcrcfb.co.za
SUMMARY:DRAM
DESCRIPTION:Annually South Africa commentates and highlights the plight of people with disabilities from the 3 November-3 December\, this is known as Disability Rights Awareness Month (DRAM). The month culminates on the 3rd of December which is also International Day for persons with disabilities. Western Cape Rehabilitation Centre put together a short programme on the 1st December 2023 for its inpatients to celebrate this day. The programme sort to motivate current patients on their rehabilitation journey\, 2 short motivational talks where given by ex-patients\, namely Karin Coetzee\, who suffered a stroke and still has residual speech fallout and Sihle Fela who suffered a Spinal Cord injury. Both highlighted their rehabilitation journey and re-integration into the community and highlighted that one’s disability does not limit you from living a purposeful and meaningful life. Ex-patient Zakariyah Torien\, who was diagnosed with Gillian Barre syndrome rendered a musical item was inspiration. \nBy: DRAM Committee 2023
URL:https://www.wcrcfb.co.za/event/dram/
END:VEVENT
BEGIN:VEVENT
DTSTART;VALUE=DATE:20231027
DTEND;VALUE=DATE:20231028
DTSTAMP:20260422T193027
CREATED:20240913T143021Z
LAST-MODIFIED:20240913T143021Z
UID:1365-1698364800-1698451199@www.wcrcfb.co.za
SUMMARY:Occupational Therapy Day
DESCRIPTION:To celebrate International Occupational Therapy Day 27 October 2023\, the Occupational therapy team from the Western Cape Rehabilitation Centre participated in an off-site team-building event. The theme for 2023\, “Unity Through Community\, Embracing the Change\,” was particularly significant as the OT department has undergone many changes. This event was an opportunity to acknowledge and celebrate these changes while fostering a sense of unity among our team. In true OT style\, we embraced participation in an activity at Clay Cafe\, engaging in a creative painting session that embodied the spirit of being\, doing\, becoming and belonging. It was the first off-site gathering in to celebrate international OT day for the OT group\, allowing us to reconnect and strengthen bonds\, which is vital for optimal team functioning. We sincerely thank the facility board for their support in making this memorable day possible. \nBy: Carla van Genderen \nOccupational Therapy Chief
URL:https://www.wcrcfb.co.za/event/occupational-therapy-day/
END:VEVENT
BEGIN:VEVENT
DTSTART;VALUE=DATE:20231010
DTEND;VALUE=DATE:20231011
DTSTAMP:20260422T193027
CREATED:20240913T143135Z
LAST-MODIFIED:20240913T143135Z
UID:1367-1696896000-1696982399@www.wcrcfb.co.za
SUMMARY:Mental Health Day
DESCRIPTION:World mental health day is celebrated annually on 10 October. The day aims to raise awareness of mental health issues around the world. \nIn October 2023 WCRC’s Psychology Department planned activities and a competition focused on staff health and wellness.\nStaff were invited to attend wellness talks focused on 3 topics: ‘Strategies for becoming your best and healthiest self’\, ‘How food affects your mood’\, and ‘Reassessing your goals and dreams’. The aim was to raise awareness and have people see that we can take small steps to improving our mental health by just committing to a small and manageable action each day. \nStaff were divided into teams and invited to create displays\, with a chance to win prizes. \nTeams were asked to create a display which focused on “Practical ways to improve mental health in daily life”. The creativity and innovation went beyond expectation! \nThe winning team\, Therapy 2\, created their display around the idea “make a date with yourself” which highlighted the importance of prioritizing mental health. They showed various simple and practical ways to take a few minutes for self-care. \nBy: Hannelie Brenton (Assistant Manager Nursing)
URL:https://www.wcrcfb.co.za/event/mental-health-day/
END:VEVENT
END:VCALENDAR